Index of /checkResults/devel/workflows-LATEST/BP4RNAseq/raw-results/palomino6
Name
Last modified
Size
Description
Parent Directory
-
buildsrc-out.txt
10-Jul-2024 05:30
892
buildsrc-summary.dcf
10-Jul-2024 05:30
466
install-out.txt
10-Jul-2024 05:30
1.0K
install-summary.dcf
10-Jul-2024 05:30
277