Index of /checkResults/devel/workflows-LATEST/BP4RNAseq/raw-results/palomino4
Name
Last modified
Size
Description
Parent Directory
-
buildsrc-out.txt
15-Jun-2024 05:30
886
buildsrc-summary.dcf
15-Jun-2024 05:30
460
install-out.txt
15-Jun-2024 05:30
968
install-summary.dcf
15-Jun-2024 05:30
272