Index of /checkResults/devel/workflows-LATEST/BP4RNAseq/raw-results/nebbiolo2
Name
Last modified
Size
Description
Parent Directory
-
buildsrc-out.txt
10-Jul-2024 05:30
854
buildsrc-summary.dcf
10-Jul-2024 05:30
423
install-out.txt
10-Jul-2024 05:30
958
install-summary.dcf
10-Jul-2024 05:30
262