Index of /checkResults/devel/data-experiment-LATEST/zebrafishRNASeq/raw-results

[ICO]NameLast modifiedSizeDescription

[DIR]Parent Directory  -  
[   ]info.dcf01-Mar-2024 04:51 282  
[DIR]nebbiolo1/01-Mar-2024 04:51 -