Back to Build/check report for BioC 3.19 experimental data
ABCDEFGHIJKLMNOPQRSTUVWXY[Z]

This page was generated on 2024-02-29 14:51:26 -0500 (Thu, 29 Feb 2024).

HostnameOSArch (*)R versionInstalled pkgs
nebbiolo1Linux (Ubuntu 22.04.3 LTS)x86_64R Under development (unstable) (2024-01-16 r85808) -- "Unsuffered Consequences" 4676
Click on any hostname to see more info about the system (e.g. compilers)      (*) as reported by 'uname -p', except on Windows and Mac OS X

Package 423/423HostnameOS / ArchINSTALLBUILDCHECK
zebrafishRNASeq 1.23.0  (landing page)
Davide Risso
Snapshot Date: 2024-02-29 07:30:03 -0500 (Thu, 29 Feb 2024)
git_url: https://git.bioconductor.org/packages/zebrafishRNASeq
git_branch: devel
git_last_commit: b6e0ea7
git_last_commit_date: 2023-10-24 09:08:14 -0500 (Tue, 24 Oct 2023)
nebbiolo1Linux (Ubuntu 22.04.3 LTS) / x86_64  OK    OK    OK  UNNEEDED, same version is already published

INSTALL results for zebrafishRNASeq on nebbiolo1


To the developers/maintainers of the zebrafishRNASeq package:
- Use the following Renviron settings to reproduce errors and warnings.
- If 'R CMD check' started to fail recently on the Linux builder(s) over a missing dependency, add the missing dependency to 'Suggests:' in your DESCRIPTION file. See Renviron.bioc for more information.

raw results


Summary

Package: zebrafishRNASeq
Version: 1.23.0
Command: /home/biocbuild/bbs-3.19-bioc/R/bin/R CMD INSTALL zebrafishRNASeq
StartedAt: 2024-02-29 10:00:39 -0500 (Thu, 29 Feb 2024)
EndedAt: 2024-02-29 10:00:41 -0500 (Thu, 29 Feb 2024)
EllapsedTime: 2.1 seconds
RetCode: 0
Status:   OK  

Command output

##############################################################################
##############################################################################
###
### Running command:
###
###   /home/biocbuild/bbs-3.19-bioc/R/bin/R CMD INSTALL zebrafishRNASeq
###
##############################################################################
##############################################################################


* installing to library ‘/home/biocbuild/bbs-3.19-bioc/R/site-library’
* installing *source* package ‘zebrafishRNASeq’ ...
** using staged installation
** data
** inst
** help
*** installing help indices
** building package indices
** installing vignettes
** testing if installed package can be loaded from temporary location
** testing if installed package can be loaded from final location
** testing if installed package keeps a record of temporary installation path
* DONE (zebrafishRNASeq)