Index of /checkResults/devel/data-experiment-LATEST/yeastNagalakshmi/raw-results
Name
Last modified
Size
Description
Parent Directory
-
info.dcf
31-May-2024 03:51
308
nebbiolo2/
31-May-2024 03:51
-