Index of /checkResults/devel/data-experiment-LATEST/yeastCC/raw-results

[ICO]NameLast modifiedSizeDescription

[DIR]Parent Directory  -  
[   ]info.dcf02-Jun-2023 03:51 273  
[DIR]nebbiolo2/02-Jun-2023 03:51 -