Name | Last modified | Size | Description | |
---|---|---|---|---|
Parent Directory | - | |||
install-summary.dcf | 26-Jul-2024 03:51 | 280 | ||
buildsrc-summary.dcf | 26-Jul-2024 03:51 | 449 | ||
checksrc-summary.dcf | 26-Jul-2024 03:51 | 463 | ||
buildsrc-out.txt | 26-Jul-2024 03:51 | 913 | ||
install-out.txt | 26-Jul-2024 03:51 | 1.0K | ||
checksrc-out.txt | 26-Jul-2024 03:51 | 3.8K | ||