Index of /checkResults/devel/data-experiment-LATEST/tinesath1probe/raw-results
Name
Last modified
Size
Description
Parent Directory
-
info.dcf
28-Jun-2024 03:51
272
nebbiolo2/
28-Jun-2024 03:51
-