Name | Last modified | Size | Description | |
---|---|---|---|---|
Parent Directory | - | |||
install-summary.dcf | 26-Jul-2024 03:51 | 268 | ||
install-out.txt | 26-Jul-2024 03:51 | 943 | ||
checksrc-summary.dcf | 26-Jul-2024 03:51 | 439 | ||
checksrc-out.txt | 26-Jul-2024 03:51 | 3.2K | ||
buildsrc-summary.dcf | 26-Jul-2024 03:51 | 431 | ||
buildsrc-out.txt | 26-Jul-2024 03:51 | 924 | ||