Name | Last modified | Size | Description | |
---|---|---|---|---|
Parent Directory | - | |||
install-summary.dcf | 26-Jul-2024 03:51 | 269 | ||
buildsrc-summary.dcf | 26-Jul-2024 03:51 | 432 | ||
checksrc-summary.dcf | 26-Jul-2024 03:51 | 434 | ||
buildsrc-out.txt | 26-Jul-2024 03:51 | 817 | ||
install-out.txt | 26-Jul-2024 03:51 | 951 | ||
checksrc-out.txt | 26-Jul-2024 03:51 | 3.3K | ||