Index of /checkResults/devel/data-experiment-LATEST/spqnData/raw-results

[ICO]NameLast modifiedSizeDescription

[DIR]Parent Directory  -  
[   ]info.dcf08-Dec-2023 04:51 261  
[DIR]nebbiolo1/08-Dec-2023 04:51 -