Index of /checkResults/devel/data-experiment-LATEST/spatialDmelxsim/raw-results/nebbiolo2

[ICO]NameLast modifiedSizeDescription

[DIR]Parent Directory  -  
[TXT]buildsrc-out.txt05-Aug-2022 03:50 837  
[   ]buildsrc-summary.dcf05-Aug-2022 03:50 439  
[TXT]checksrc-out.txt05-Aug-2022 03:50 2.9K 
[   ]checksrc-summary.dcf05-Aug-2022 03:50 454  
[TXT]install-out.txt05-Aug-2022 03:50 1.0K 
[   ]install-summary.dcf05-Aug-2022 03:50 274