Name | Last modified | Size | Description | |
---|---|---|---|---|
Parent Directory | - | |||
install-summary.dcf | 26-Jul-2024 03:51 | 265 | ||
install-out.txt | 26-Jul-2024 03:51 | 961 | ||
checksrc-summary.dcf | 26-Jul-2024 03:51 | 426 | ||
checksrc-out.txt | 26-Jul-2024 03:51 | 3.4K | ||
buildsrc-summary.dcf | 26-Jul-2024 03:51 | 426 | ||
buildsrc-out.txt | 26-Jul-2024 03:51 | 881 | ||