Back to Build/check report for BioC 3.19 experimental data
ABCDEFGHIJKLMNOPQR[S]TUVWXYZ

This page was generated on 2024-03-26 14:51:27 -0400 (Tue, 26 Mar 2024).

HostnameOSArch (*)R versionInstalled pkgs
nebbiolo1Linux (Ubuntu 22.04.3 LTS)x86_64R Under development (unstable) (2024-03-18 r86148) -- "Unsuffered Consequences" 4698
Click on any hostname to see more info about the system (e.g. compilers)      (*) as reported by 'uname -p', except on Windows and Mac OS X

Package 353/425HostnameOS / ArchINSTALLBUILDCHECK
seq2pathway.data 1.35.0  (landing page)
Arjun Kinstlick
Snapshot Date: 2024-03-26 07:30:03 -0400 (Tue, 26 Mar 2024)
git_url: https://git.bioconductor.org/packages/seq2pathway.data
git_branch: devel
git_last_commit: 84f4c09
git_last_commit_date: 2023-10-24 09:09:39 -0400 (Tue, 24 Oct 2023)
nebbiolo1Linux (Ubuntu 22.04.3 LTS) / x86_64  OK    OK    WARNINGS  UNNEEDED, same version is already published

BUILD results for seq2pathway.data on nebbiolo1


To the developers/maintainers of the seq2pathway.data package:
- Use the following Renviron settings to reproduce errors and warnings.
- If 'R CMD check' started to fail recently on the Linux builder(s) over a missing dependency, add the missing dependency to 'Suggests:' in your DESCRIPTION file. See Renviron.bioc for more information.

raw results


Summary

Package: seq2pathway.data
Version: 1.35.0
Command: /home/biocbuild/bbs-3.19-bioc/R/bin/R CMD build --keep-empty-dirs --no-resave-data seq2pathway.data
StartedAt: 2024-03-26 10:49:53 -0400 (Tue, 26 Mar 2024)
EndedAt: 2024-03-26 10:51:12 -0400 (Tue, 26 Mar 2024)
EllapsedTime: 79.3 seconds
RetCode: 0
Status:   OK  
PackageFile: seq2pathway.data_1.35.0.tar.gz
PackageFileSize: 97.22 MiB

Command output

##############################################################################
##############################################################################
###
### Running command:
###
###   /home/biocbuild/bbs-3.19-bioc/R/bin/R CMD build --keep-empty-dirs --no-resave-data seq2pathway.data
###
##############################################################################
##############################################################################


* checking for file ‘seq2pathway.data/DESCRIPTION’ ... OK
* preparing ‘seq2pathway.data’:
* checking DESCRIPTION meta-information ... OK
* checking whether ‘INDEX’ is up-to-date ... NO
* use ‘--force’ to remove the existing ‘INDEX’
* installing the package to build vignettes
* creating vignettes ... OK
* checking for LF line-endings in source and make files and shell scripts
* checking for empty or unneeded directories
WARNING: Removing directory ‘seq2pathway.data/Meta’ which should only
  occur in an installed package
WARNING: Removing directory ‘seq2pathway.data/help’ which should only
  occur in an installed package
WARNING: Removing directory ‘seq2pathway.data/html’ which should only
  occur in an installed package
* looking to see if a ‘data/datalist’ file should be added
* building ‘seq2pathway.data_1.35.0.tar.gz’