Name | Last modified | Size | Description | |
---|---|---|---|---|
Parent Directory | - | |||
buildsrc-out.txt | 26-Jul-2024 03:51 | 885 | ||
buildsrc-summary.dcf | 26-Jul-2024 03:51 | 429 | ||
checksrc-out.txt | 26-Jul-2024 03:51 | 3.3K | ||
checksrc-summary.dcf | 26-Jul-2024 03:51 | 430 | ||
install-out.txt | 26-Jul-2024 03:51 | 964 | ||
install-summary.dcf | 26-Jul-2024 03:51 | 267 | ||