Back to Build/check report for BioC 3.19 experimental data
ABCDEFGHIJKLMNOPQR[S]TUVWXYZ

This page was generated on 2024-03-26 14:51:27 -0400 (Tue, 26 Mar 2024).

HostnameOSArch (*)R versionInstalled pkgs
nebbiolo1Linux (Ubuntu 22.04.3 LTS)x86_64R Under development (unstable) (2024-03-18 r86148) -- "Unsuffered Consequences" 4698
Click on any hostname to see more info about the system (e.g. compilers)      (*) as reported by 'uname -p', except on Windows and Mac OS X

Package 346/425HostnameOS / ArchINSTALLBUILDCHECK
scanMiRData 1.9.0  (landing page)
Pierre-Luc Germain
Snapshot Date: 2024-03-26 07:30:03 -0400 (Tue, 26 Mar 2024)
git_url: https://git.bioconductor.org/packages/scanMiRData
git_branch: devel
git_last_commit: d75ee9d
git_last_commit_date: 2023-10-24 09:22:39 -0400 (Tue, 24 Oct 2023)
nebbiolo1Linux (Ubuntu 22.04.3 LTS) / x86_64  OK    OK    OK  UNNEEDED, same version is already published

INSTALL results for scanMiRData on nebbiolo1


To the developers/maintainers of the scanMiRData package:
- Use the following Renviron settings to reproduce errors and warnings.
- If 'R CMD check' started to fail recently on the Linux builder(s) over a missing dependency, add the missing dependency to 'Suggests:' in your DESCRIPTION file. See Renviron.bioc for more information.

raw results


Summary

Package: scanMiRData
Version: 1.9.0
Command: /home/biocbuild/bbs-3.19-bioc/R/bin/R CMD INSTALL scanMiRData
StartedAt: 2024-03-26 10:04:24 -0400 (Tue, 26 Mar 2024)
EndedAt: 2024-03-26 10:04:39 -0400 (Tue, 26 Mar 2024)
EllapsedTime: 14.1 seconds
RetCode: 0
Status:   OK  

Command output

##############################################################################
##############################################################################
###
### Running command:
###
###   /home/biocbuild/bbs-3.19-bioc/R/bin/R CMD INSTALL scanMiRData
###
##############################################################################
##############################################################################


* installing to library ‘/home/biocbuild/bbs-3.19-bioc/R/site-library’
* installing *source* package ‘scanMiRData’ ...
** using staged installation
** R
** data
** byte-compile and prepare package for lazy loading
** help
*** installing help indices
** building package indices
** installing vignettes
** testing if installed package can be loaded from temporary location
** testing if installed package can be loaded from final location
** testing if installed package keeps a record of temporary installation path
* DONE (scanMiRData)