Name | Last modified | Size | Description | |
---|---|---|---|---|
Parent Directory | - | |||
checksrc-out.txt | 26-Jul-2024 03:51 | 3.3K | ||
install-out.txt | 26-Jul-2024 03:51 | 968 | ||
buildsrc-out.txt | 26-Jul-2024 03:51 | 941 | ||
checksrc-summary.dcf | 26-Jul-2024 03:51 | 446 | ||
buildsrc-summary.dcf | 26-Jul-2024 03:51 | 441 | ||
install-summary.dcf | 26-Jul-2024 03:51 | 275 | ||