Index of /checkResults/devel/data-experiment-LATEST/sampleClassifierData/raw-results
Name
Last modified
Size
Description
Parent Directory
-
info.dcf
26-Jul-2024 03:51
303
nebbiolo2/
26-Jul-2024 03:51
-