![]() | Name | Last modified | Size | Description |
---|---|---|---|---|
![]() | Parent Directory | - | ||
![]() | buildsrc-out.txt | 27-Sep-2023 03:51 | 830 | |
![]() | buildsrc-summary.dcf | 27-Sep-2023 03:51 | 435 | |
![]() | checksrc-out.txt | 27-Sep-2023 03:51 | 3.7K | |
![]() | checksrc-summary.dcf | 27-Sep-2023 03:51 | 438 | |
![]() | install-out.txt | 27-Sep-2023 03:51 | 970 | |
![]() | install-summary.dcf | 27-Sep-2023 03:51 | 271 | |