Index of /checkResults/devel/data-experiment-LATEST/raerdata/raw-results
Name
Last modified
Size
Description
Parent Directory
-
info.dcf
12-Jul-2024 03:51
274
nebbiolo2/
12-Jul-2024 03:51
-