Back to Build/check report for BioC 3.19 experimental data |
|
This page was generated on 2024-03-26 14:51:27 -0400 (Tue, 26 Mar 2024).
Hostname | OS | Arch (*) | R version | Installed pkgs |
---|---|---|---|---|
nebbiolo1 | Linux (Ubuntu 22.04.3 LTS) | x86_64 | R Under development (unstable) (2024-03-18 r86148) -- "Unsuffered Consequences" | 4698 |
Click on any hostname to see more info about the system (e.g. compilers) (*) as reported by 'uname -p', except on Windows and Mac OS X |
Package 301/425 | Hostname | OS / Arch | INSTALL | BUILD | CHECK | ||||||||
ptairData 1.11.0 (landing page) camille Roquencourt
| nebbiolo1 | Linux (Ubuntu 22.04.3 LTS) / x86_64 | OK | OK | OK | ||||||||
To the developers/maintainers of the ptairData package: - Use the following Renviron settings to reproduce errors and warnings. - If 'R CMD check' started to fail recently on the Linux builder(s) over a missing dependency, add the missing dependency to 'Suggests:' in your DESCRIPTION file. See Renviron.bioc for more information. |
Package: ptairData |
Version: 1.11.0 |
Command: /home/biocbuild/bbs-3.19-bioc/R/bin/R CMD build --keep-empty-dirs --no-resave-data ptairData |
StartedAt: 2024-03-26 10:45:06 -0400 (Tue, 26 Mar 2024) |
EndedAt: 2024-03-26 10:45:17 -0400 (Tue, 26 Mar 2024) |
EllapsedTime: 10.9 seconds |
RetCode: 0 |
Status: OK |
PackageFile: ptairData_1.11.0.tar.gz |
PackageFileSize: 53.1 MiB |
############################################################################## ############################################################################## ### ### Running command: ### ### /home/biocbuild/bbs-3.19-bioc/R/bin/R CMD build --keep-empty-dirs --no-resave-data ptairData ### ############################################################################## ############################################################################## * checking for file ‘ptairData/DESCRIPTION’ ... OK * preparing ‘ptairData’: * checking DESCRIPTION meta-information ... OK * installing the package to build vignettes * creating vignettes ... OK * checking for LF line-endings in source and make files and shell scripts * checking for empty or unneeded directories * building ‘ptairData_1.11.0.tar.gz’