Back to Build/check report for BioC 3.19 experimental data
ABCDEFGHIJKLMNO[P]QRSTUVWXYZ

This page was generated on 2024-03-26 14:51:27 -0400 (Tue, 26 Mar 2024).

HostnameOSArch (*)R versionInstalled pkgs
nebbiolo1Linux (Ubuntu 22.04.3 LTS)x86_64R Under development (unstable) (2024-03-18 r86148) -- "Unsuffered Consequences" 4698
Click on any hostname to see more info about the system (e.g. compilers)      (*) as reported by 'uname -p', except on Windows and Mac OS X

Package 298/425HostnameOS / ArchINSTALLBUILDCHECK
prostateCancerStockholm 1.31.0  (landing page)
Mark Dunning
Snapshot Date: 2024-03-26 07:30:03 -0400 (Tue, 26 Mar 2024)
git_url: https://git.bioconductor.org/packages/prostateCancerStockholm
git_branch: devel
git_last_commit: 5309a4a
git_last_commit_date: 2023-10-24 09:13:51 -0400 (Tue, 24 Oct 2023)
nebbiolo1Linux (Ubuntu 22.04.3 LTS) / x86_64  OK    OK    WARNINGS  UNNEEDED, same version is already published

INSTALL results for prostateCancerStockholm on nebbiolo1


To the developers/maintainers of the prostateCancerStockholm package:
- Use the following Renviron settings to reproduce errors and warnings.
- If 'R CMD check' started to fail recently on the Linux builder(s) over a missing dependency, add the missing dependency to 'Suggests:' in your DESCRIPTION file. See Renviron.bioc for more information.

raw results


Summary

Package: prostateCancerStockholm
Version: 1.31.0
Command: /home/biocbuild/bbs-3.19-bioc/R/bin/R CMD INSTALL prostateCancerStockholm
StartedAt: 2024-03-26 10:01:22 -0400 (Tue, 26 Mar 2024)
EndedAt: 2024-03-26 10:01:30 -0400 (Tue, 26 Mar 2024)
EllapsedTime: 8.6 seconds
RetCode: 0
Status:   OK  

Command output

##############################################################################
##############################################################################
###
### Running command:
###
###   /home/biocbuild/bbs-3.19-bioc/R/bin/R CMD INSTALL prostateCancerStockholm
###
##############################################################################
##############################################################################


* installing to library ‘/home/biocbuild/bbs-3.19-bioc/R/site-library’
* installing *source* package ‘prostateCancerStockholm’ ...
** using staged installation
** data
*** moving datasets to lazyload DB
** help
*** installing help indices
** building package indices
** installing vignettes
** testing if installed package can be loaded from temporary location
** testing if installed package can be loaded from final location
** testing if installed package keeps a record of temporary installation path
* DONE (prostateCancerStockholm)