Name | Last modified | Size | Description | |
---|---|---|---|---|
Parent Directory | - | |||
buildsrc-out.txt | 26-Jul-2024 03:51 | 858 | ||
buildsrc-summary.dcf | 26-Jul-2024 03:51 | 456 | ||
checksrc-out.txt | 26-Jul-2024 03:51 | 3.2K | ||
checksrc-summary.dcf | 26-Jul-2024 03:51 | 471 | ||
install-out.txt | 26-Jul-2024 03:51 | 968 | ||
install-summary.dcf | 26-Jul-2024 03:51 | 285 | ||