Back to Build/check report for BioC 3.19 experimental data
ABCDEFGHIJKLMNO[P]QRSTUVWXYZ

This page was generated on 2024-03-26 14:51:27 -0400 (Tue, 26 Mar 2024).

HostnameOSArch (*)R versionInstalled pkgs
nebbiolo1Linux (Ubuntu 22.04.3 LTS)x86_64R Under development (unstable) (2024-03-18 r86148) -- "Unsuffered Consequences" 4698
Click on any hostname to see more info about the system (e.g. compilers)      (*) as reported by 'uname -p', except on Windows and Mac OS X

Package 291/425HostnameOS / ArchINSTALLBUILDCHECK
prebsdata 1.39.0  (landing page)
Karolis Uziela
Snapshot Date: 2024-03-26 07:30:03 -0400 (Tue, 26 Mar 2024)
git_url: https://git.bioconductor.org/packages/prebsdata
git_branch: devel
git_last_commit: 7f2ba4d
git_last_commit_date: 2023-10-24 09:05:35 -0400 (Tue, 24 Oct 2023)
nebbiolo1Linux (Ubuntu 22.04.3 LTS) / x86_64  OK    OK    OK  UNNEEDED, same version is already published

BUILD results for prebsdata on nebbiolo1


To the developers/maintainers of the prebsdata package:
- Use the following Renviron settings to reproduce errors and warnings.
- If 'R CMD check' started to fail recently on the Linux builder(s) over a missing dependency, add the missing dependency to 'Suggests:' in your DESCRIPTION file. See Renviron.bioc for more information.

raw results


Summary

Package: prebsdata
Version: 1.39.0
Command: /home/biocbuild/bbs-3.19-bioc/R/bin/R CMD build --keep-empty-dirs --no-resave-data prebsdata
StartedAt: 2024-03-26 10:44:27 -0400 (Tue, 26 Mar 2024)
EndedAt: 2024-03-26 10:44:50 -0400 (Tue, 26 Mar 2024)
EllapsedTime: 23.6 seconds
RetCode: 0
Status:   OK  
PackageFile: prebsdata_1.39.0.tar.gz
PackageFileSize: 23.49 MiB

Command output

##############################################################################
##############################################################################
###
### Running command:
###
###   /home/biocbuild/bbs-3.19-bioc/R/bin/R CMD build --keep-empty-dirs --no-resave-data prebsdata
###
##############################################################################
##############################################################################


* checking for file ‘prebsdata/DESCRIPTION’ ... OK
* preparing ‘prebsdata’:
* checking DESCRIPTION meta-information ... OK
* installing the package to build vignettes
* creating vignettes ... OK
* checking for LF line-endings in source and make files and shell scripts
* checking for empty or unneeded directories
* building ‘prebsdata_1.39.0.tar.gz’