Back to Build/check report for BioC 3.15 experimental data
ABCDEFGHIJKLMNO[P]QRSTUVWXYZ

This page was generated on 2021-11-28 18:35:03 -0500 (Sun, 28 Nov 2021).

INSTALL results for plasFIA on nebbiolo2

To the developers/maintainers of the plasFIA package:
Make sure to use the following settings in order to reproduce any error or warning you see on this page.

raw results

Package 274/404HostnameOS / ArchINSTALLBUILDCHECK
plasFIA 1.23.0  (landing page)
Alexis Delabriere
Snapshot Date: 2021-11-28 08:30:02 -0500 (Sun, 28 Nov 2021)
git_url: https://git.bioconductor.org/packages/plasFIA
git_branch: master
git_last_commit: 9440e16
git_last_commit_date: 2021-10-26 12:28:28 -0500 (Tue, 26 Oct 2021)
nebbiolo2Linux (Ubuntu 20.04.3 LTS) / x86_64  OK    OK    OK  UNNEEDED, same version is already published

Summary

Package: plasFIA
Version: 1.23.0
Command: /home/biocbuild/bbs-3.15-data-experiment/R/bin/R CMD INSTALL plasFIA
StartedAt: 2021-11-28 14:06:26 -0500 (Sun, 28 Nov 2021)
EndedAt: 2021-11-28 14:07:03 -0500 (Sun, 28 Nov 2021)
EllapsedTime: 36.5 seconds
RetCode: 0
Status:   OK  

Command output

##############################################################################
##############################################################################
###
### Running command:
###
###   /home/biocbuild/bbs-3.15-data-experiment/R/bin/R CMD INSTALL plasFIA
###
##############################################################################
##############################################################################


* installing to library ‘/home/biocbuild/bbs-3.15-data-experiment/R/library’
* installing *source* package ‘plasFIA’ ...
** using staged installation
** R
** data
** inst
** byte-compile and prepare package for lazy loading
** help
*** installing help indices
** building package indices
** testing if installed package can be loaded from temporary location
** testing if installed package can be loaded from final location
** testing if installed package keeps a record of temporary installation path
* DONE (plasFIA)