Back to Build/check report for BioC 3.15 experimental data
ABCDEFGHIJKLMNO[P]QRSTUVWXYZ

This page was generated on 2021-11-28 18:35:03 -0500 (Sun, 28 Nov 2021).

BUILD results for plasFIA on nebbiolo2

To the developers/maintainers of the plasFIA package:
Make sure to use the following settings in order to reproduce any error or warning you see on this page.

raw results

Package 274/404HostnameOS / ArchINSTALLBUILDCHECK
plasFIA 1.23.0  (landing page)
Alexis Delabriere
Snapshot Date: 2021-11-28 08:30:02 -0500 (Sun, 28 Nov 2021)
git_url: https://git.bioconductor.org/packages/plasFIA
git_branch: master
git_last_commit: 9440e16
git_last_commit_date: 2021-10-26 12:28:28 -0500 (Tue, 26 Oct 2021)
nebbiolo2Linux (Ubuntu 20.04.3 LTS) / x86_64  OK    OK    OK  UNNEEDED, same version is already published

Summary

Package: plasFIA
Version: 1.23.0
Command: /home/biocbuild/bbs-3.15-data-experiment/R/bin/R CMD build --keep-empty-dirs --no-resave-data plasFIA
StartedAt: 2021-11-28 14:28:22 -0500 (Sun, 28 Nov 2021)
EndedAt: 2021-11-28 14:28:23 -0500 (Sun, 28 Nov 2021)
EllapsedTime: 1.3 seconds
RetCode: 0
Status:   OK  
PackageFile: plasFIA_1.23.0.tar.gz
PackageFileSize: 10.28 MiB

Command output

##############################################################################
##############################################################################
###
### Running command:
###
###   /home/biocbuild/bbs-3.15-data-experiment/R/bin/R CMD build --keep-empty-dirs --no-resave-data plasFIA
###
##############################################################################
##############################################################################


* checking for file ‘plasFIA/DESCRIPTION’ ... OK
* preparing ‘plasFIA’:
* checking DESCRIPTION meta-information ... OK
* checking for LF line-endings in source and make files and shell scripts
* checking for empty or unneeded directories
* looking to see if a ‘data/datalist’ file should be added
* building ‘plasFIA_1.23.0.tar.gz’