Index of /checkResults/devel/data-experiment-LATEST/pepDat/raw-results

[ICO]NameLast modifiedSizeDescription

[DIR]Parent Directory  -  
[   ]info.dcf29-May-2024 03:51 263  
[DIR]nebbiolo2/29-May-2024 03:51 -