Index of /checkResults/devel/data-experiment-LATEST/pd.atdschip.tiling/raw-results
Name
Last modified
Size
Description
Parent Directory
-
nebbiolo2/
31-May-2024 03:51
-
info.dcf
31-May-2024 03:51
292