Back to Build/check report for BioC 3.19 experimental data |
|
This page was generated on 2024-03-26 14:51:27 -0400 (Tue, 26 Mar 2024).
Hostname | OS | Arch (*) | R version | Installed pkgs |
---|---|---|---|---|
nebbiolo1 | Linux (Ubuntu 22.04.3 LTS) | x86_64 | R Under development (unstable) (2024-03-18 r86148) -- "Unsuffered Consequences" | 4698 |
Click on any hostname to see more info about the system (e.g. compilers) (*) as reported by 'uname -p', except on Windows and Mac OS X |
Package 295/425 | Hostname | OS / Arch | INSTALL | BUILD | CHECK | ||||||||
pRolocdata 1.41.0 (landing page) Laurent Gatto
| nebbiolo1 | Linux (Ubuntu 22.04.3 LTS) / x86_64 | OK | OK | OK | ||||||||
To the developers/maintainers of the pRolocdata package: - Use the following Renviron settings to reproduce errors and warnings. - If 'R CMD check' started to fail recently on the Linux builder(s) over a missing dependency, add the missing dependency to 'Suggests:' in your DESCRIPTION file. See Renviron.bioc for more information. |
Package: pRolocdata |
Version: 1.41.0 |
Command: /home/biocbuild/bbs-3.19-bioc/R/bin/R CMD check --install=check:pRolocdata.install-out.txt --library=/home/biocbuild/bbs-3.19-bioc/R/site-library --timings pRolocdata_1.41.0.tar.gz |
StartedAt: 2024-03-26 12:06:49 -0400 (Tue, 26 Mar 2024) |
EndedAt: 2024-03-26 12:15:08 -0400 (Tue, 26 Mar 2024) |
EllapsedTime: 499.0 seconds |
RetCode: 0 |
Status: OK |
CheckDir: pRolocdata.Rcheck |
Warnings: 0 |
############################################################################## ############################################################################## ### ### Running command: ### ### /home/biocbuild/bbs-3.19-bioc/R/bin/R CMD check --install=check:pRolocdata.install-out.txt --library=/home/biocbuild/bbs-3.19-bioc/R/site-library --timings pRolocdata_1.41.0.tar.gz ### ############################################################################## ############################################################################## * using log directory ‘/home/biocbuild/bbs-3.19-data-experiment/meat/pRolocdata.Rcheck’ * using R Under development (unstable) (2024-03-18 r86148) * using platform: x86_64-pc-linux-gnu * R was compiled by gcc (Ubuntu 11.4.0-1ubuntu1~22.04) 11.4.0 GNU Fortran (Ubuntu 11.4.0-1ubuntu1~22.04) 11.4.0 * running under: Ubuntu 22.04.4 LTS * using session charset: UTF-8 * checking for file ‘pRolocdata/DESCRIPTION’ ... OK * checking extension type ... Package * this is package ‘pRolocdata’ version ‘1.41.0’ * package encoding: UTF-8 * checking package namespace information ... OK * checking package dependencies ... OK * checking if this is a source package ... OK * checking if there is a namespace ... OK * checking for hidden files and directories ... OK * checking for portable file names ... OK * checking for sufficient/correct file permissions ... OK * checking whether package ‘pRolocdata’ can be installed ... OK * checking installed package size ... NOTE installed size is 554.7Mb sub-directories of 1Mb or more: data 191.4Mb extdata 362.9Mb * checking package directory ... OK * checking DESCRIPTION meta-information ... OK * checking top-level files ... OK * checking for left-over files ... OK * checking index information ... OK * checking package subdirectories ... OK * checking code files for non-ASCII characters ... OK * checking R files for syntax errors ... OK * checking whether the package can be loaded ... OK * checking whether the package can be loaded with stated dependencies ... OK * checking whether the package can be unloaded cleanly ... OK * checking whether the namespace can be loaded with stated dependencies ... OK * checking whether the namespace can be unloaded cleanly ... OK * checking loading without being on the library search path ... OK * checking whether startup messages can be suppressed ... OK * checking dependencies in R code ... OK * checking S3 generic/method consistency ... OK * checking replacement functions ... OK * checking foreign function calls ... OK * checking R code for possible problems ... OK * checking Rd files ... NOTE checkRd: (-1) thpLOPIT2021.Rd:82: Lost braces 82 | PSM-level csv files are available in the code{extdata} directory | ^ checkRd: (-1) thpTimecourse2021.Rd:52: Lost braces 52 | code{extdata} directory and have been imported as | ^ * checking Rd metadata ... OK * checking Rd cross-references ... OK * checking for missing documentation entries ... OK * checking for code/documentation mismatches ... OK * checking Rd \usage sections ... OK * checking Rd contents ... OK * checking for unstated dependencies in examples ... OK * checking contents of ‘data’ directory ... OK * checking data for non-ASCII characters ... NOTE Note: found 24 marked UTF-8 strings * checking data for ASCII and uncompressed saves ... OK * checking examples ... OK Examples with CPU (user + system) or elapsed time > 5s user system elapsed thpLOPIT2021 13.295 0.216 13.512 krahmer2018pcp 9.882 0.388 10.271 Shin2020 5.152 0.364 5.528 * checking for unstated dependencies in ‘tests’ ... OK * checking tests ... Running ‘testthat.R’ OK * checking PDF version of manual ... OK * DONE Status: 3 NOTEs See ‘/home/biocbuild/bbs-3.19-data-experiment/meat/pRolocdata.Rcheck/00check.log’ for details.
pRolocdata.Rcheck/00install.out
############################################################################## ############################################################################## ### ### Running command: ### ### /home/biocbuild/bbs-3.19-bioc/R/bin/R CMD INSTALL pRolocdata ### ############################################################################## ############################################################################## * installing to library ‘/home/biocbuild/bbs-3.19-bioc/R/site-library’ * installing *source* package ‘pRolocdata’ ... ** using staged installation ** R ** data ** inst ** byte-compile and prepare package for lazy loading ** help *** installing help indices ** building package indices ** testing if installed package can be loaded from temporary location ** testing if installed package can be loaded from final location ** testing if installed package keeps a record of temporary installation path * DONE (pRolocdata)
pRolocdata.Rcheck/tests/testthat.Rout
R Under development (unstable) (2024-03-18 r86148) -- "Unsuffered Consequences" Copyright (C) 2024 The R Foundation for Statistical Computing Platform: x86_64-pc-linux-gnu R is free software and comes with ABSOLUTELY NO WARRANTY. You are welcome to redistribute it under certain conditions. Type 'license()' or 'licence()' for distribution details. R is a collaborative project with many contributors. Type 'contributors()' for more information and 'citation()' on how to cite R or R packages in publications. Type 'demo()' for some demos, 'help()' for on-line help, or 'help.start()' for an HTML browser interface to help. Type 'q()' to quit R. > # setting R_TESTS to empty string because of > # https://github.com/hadley/testthat/issues/144 > # revert this when that issue in R is fixed. > Sys.setenv("R_TESTS" = "") > library(testthat) > library(MSnbase) Loading required package: BiocGenerics Attaching package: 'BiocGenerics' The following objects are masked from 'package:stats': IQR, mad, sd, var, xtabs The following objects are masked from 'package:base': Filter, Find, Map, Position, Reduce, anyDuplicated, aperm, append, as.data.frame, basename, cbind, colnames, dirname, do.call, duplicated, eval, evalq, get, grep, grepl, intersect, is.unsorted, lapply, mapply, match, mget, order, paste, pmax, pmax.int, pmin, pmin.int, rank, rbind, rownames, sapply, setdiff, table, tapply, union, unique, unsplit, which.max, which.min Loading required package: Biobase Welcome to Bioconductor Vignettes contain introductory material; view with 'browseVignettes()'. To cite Bioconductor, see 'citation("Biobase")', and for packages 'citation("pkgname")'. Loading required package: mzR Loading required package: Rcpp Loading required package: S4Vectors Loading required package: stats4 Attaching package: 'S4Vectors' The following object is masked from 'package:utils': findMatches The following objects are masked from 'package:base': I, expand.grid, unname Loading required package: ProtGenerics Attaching package: 'ProtGenerics' The following object is masked from 'package:stats': smooth This is MSnbase version 2.29.4 Visit https://lgatto.github.io/MSnbase/ to get started. Consider switching to the 'R for Mass Spectrometry' packages - see https://RforMassSpectrometry.org for details. Attaching package: 'MSnbase' The following object is masked from 'package:base': trimws > library(pRolocdata) This is pRolocdata version 1.41.0. Use 'pRolocdata()' to list available data sets. > > test_check("pRolocdata") [ FAIL 0 | WARN 0 | SKIP 0 | PASS 144 ] > > proc.time() user system elapsed 43.850 1.952 45.793
pRolocdata.Rcheck/pRolocdata-Ex.timings
name | user | system | elapsed | |
E14TG2a | 0.028 | 0.005 | 0.033 | |
Shin2020 | 5.152 | 0.364 | 5.528 | |
ToxoLopit | 0.541 | 0.020 | 0.560 | |
andreyev2010 | 0.608 | 0.036 | 0.644 | |
andy2011 | 0.061 | 0.001 | 0.061 | |
at_chloro | 0.086 | 0.006 | 0.092 | |
baers2018 | 0.371 | 0.012 | 0.383 | |
beltran2016 | 0.631 | 0.004 | 0.634 | |
courtland2020 | 0.589 | 0.004 | 0.593 | |
davies2018 | 0.376 | 0.008 | 0.384 | |
dunkley2006 | 0.012 | 0.001 | 0.012 | |
fabre2015 | 0.279 | 0.007 | 0.286 | |
foster2006 | 0.032 | 0.000 | 0.031 | |
groen2014 | 0.97 | 0.14 | 1.11 | |
hall2009 | 0.166 | 0.008 | 0.174 | |
havugimana2012 | 0.119 | 0.008 | 0.127 | |
hirst2018 | 0.481 | 0.012 | 0.493 | |
hyperLOPIT2015 | 4.367 | 0.192 | 4.559 | |
hyperLOPITU2OS2017 | 1.367 | 0.032 | 1.400 | |
itzhak2016stcSILAC | 0.643 | 0.020 | 0.663 | |
itzhak2017 | 1.753 | 0.016 | 1.770 | |
itzhak2017dynamic | 1.307 | 0.016 | 1.323 | |
kirkwood2013 | 0.042 | 0.002 | 0.043 | |
kozik2020 | 0.218 | 0.002 | 0.220 | |
krahmer2018pcp | 9.882 | 0.388 | 10.271 | |
kristensen2012 | 0.020 | 0.005 | 0.024 | |
lopimsSyn2 | 0.665 | 0.012 | 0.678 | |
moloney2023 | 0.776 | 0.016 | 0.793 | |
mulvey2015 | 3.204 | 0.104 | 3.309 | |
nikolovski2012 | 0.311 | 0.004 | 0.315 | |
nikolovski2014 | 0.371 | 0.000 | 0.371 | |
orre2019 | 0.433 | 0.012 | 0.446 | |
pRolocdata | 0.017 | 0.000 | 0.016 | |
pRolocmetadata | 0.011 | 0.004 | 0.014 | |
rodriguez2012r1 | 0.650 | 0.012 | 0.663 | |
stekhoven2014 | 0.215 | 0.008 | 0.223 | |
tan2009 | 0.009 | 0.008 | 0.017 | |
thpLOPIT2021 | 13.295 | 0.216 | 13.512 | |
thpTimecourse2021 | 0.142 | 0.005 | 0.147 | |
trotter2010 | 0.351 | 0.004 | 0.355 | |
yeast | 0.389 | 0.004 | 0.394 | |