Index of /checkResults/devel/data-experiment-LATEST/octad.db/raw-results

[ICO]NameLast modifiedSizeDescription

[DIR]Parent Directory  -  
[   ]info.dcf29-May-2024 03:51 268  
[DIR]nebbiolo2/29-May-2024 03:51 -