Name | Last modified | Size | Description | |
---|---|---|---|---|
Parent Directory | - | |||
install-summary.dcf | 28-Jun-2024 03:51 | 252 | ||
install-out.txt | 28-Jun-2024 03:51 | 885 | ||
checksrc-summary.dcf | 28-Jun-2024 03:51 | 401 | ||
checksrc-out.txt | 28-Jun-2024 03:51 | 2.7K | ||
buildsrc-summary.dcf | 28-Jun-2024 03:51 | 408 | ||
buildsrc-out.txt | 28-Jun-2024 03:51 | 794 | ||