Index of /checkResults/devel/data-experiment-LATEST/oct4/raw-results
Name
Last modified
Size
Description
Parent Directory
-
info.dcf
28-Jun-2024 03:51
265
nebbiolo2/
28-Jun-2024 03:51
-