Back to Build/check report for BioC 3.17 experimental data
ABCDEFGHIJKLM[N]OPQRSTUVWXYZ

This page was generated on 2023-03-30 14:51:10 -0400 (Thu, 30 Mar 2023).

HostnameOSArch (*)R versionInstalled pkgs
nebbiolo1Linux (Ubuntu 22.04.1 LTS)x86_64R Under development (unstable) (2023-03-16 r83996) -- "Unsuffered Consequences" 4547
Click on any hostname to see more info about the system (e.g. compilers)      (*) as reported by 'uname -p', except on Windows and Mac OS X

BUILD results for nanotubes on nebbiolo1


To the developers/maintainers of the nanotubes package:
Use the following Renviron settings to reproduce errors and warnings.

Note: If "R CMD check" recently failed on the Linux builder over a missing dependency, add the missing dependency to "Suggests" in your DESCRIPTION file. See the Renviron.bioc for details.

raw results

Package 259/417HostnameOS / ArchINSTALLBUILDCHECK
nanotubes 1.15.0  (landing page)
Malte Thodberg
Snapshot Date: 2023-03-30 07:30:02 -0400 (Thu, 30 Mar 2023)
git_url: https://git.bioconductor.org/packages/nanotubes
git_branch: devel
git_last_commit: 7ef4936
git_last_commit_date: 2022-11-01 11:21:26 -0400 (Tue, 01 Nov 2022)
nebbiolo1Linux (Ubuntu 22.04.1 LTS) / x86_64  OK    OK    OK  UNNEEDED, same version is already published

Summary

Package: nanotubes
Version: 1.15.0
Command: /home/biocbuild/bbs-3.17-bioc/R/bin/R CMD build --keep-empty-dirs --no-resave-data nanotubes
StartedAt: 2023-03-30 10:41:28 -0400 (Thu, 30 Mar 2023)
EndedAt: 2023-03-30 10:41:51 -0400 (Thu, 30 Mar 2023)
EllapsedTime: 22.6 seconds
RetCode: 0
Status:   OK  
PackageFile: nanotubes_1.15.0.tar.gz
PackageFileSize: 117.6 MiB

Command output

##############################################################################
##############################################################################
###
### Running command:
###
###   /home/biocbuild/bbs-3.17-bioc/R/bin/R CMD build --keep-empty-dirs --no-resave-data nanotubes
###
##############################################################################
##############################################################################


* checking for file ‘nanotubes/DESCRIPTION’ ... OK
* preparing ‘nanotubes’:
* checking DESCRIPTION meta-information ... OK
* installing the package to build vignettes
* creating vignettes ... OK
* checking for LF line-endings in source and make files and shell scripts
* checking for empty or unneeded directories
* looking to see if a ‘data/datalist’ file should be added
* building ‘nanotubes_1.15.0.tar.gz’