Index of /checkResults/devel/data-experiment-LATEST/muscData/raw-results

[ICO]NameLast modifiedSizeDescription

[DIR]Parent Directory  -  
[   ]info.dcf20-Oct-2021 04:52 272  
[DIR]nebbiolo2/20-Oct-2021 04:52 -