Back to Multiple platform build/check report for BioC 3.13 experimental data
ABCDEFGHIJKL[M]NOPQRSTUVWXYZ

INSTALL report for mtbls2 on malbec2

This page was generated on 2021-05-11 16:03:02 -0400 (Tue, 11 May 2021).

To the developers/maintainers of the mtbls2 package:
Please make sure to use the following settings in order to reproduce any error or warning you see on this page.
Package 252/402HostnameOS / ArchINSTALLBUILDCHECK
mtbls2 1.21.2  (landing page)
Steffen Neumann
Snapshot Date: 2021-05-11 09:30:09 -0400 (Tue, 11 May 2021)
URL: https://git.bioconductor.org/packages/mtbls2
Branch: master
Last Commit: eada574
Last Changed Date: 2021-05-03 02:49:16 -0400 (Mon, 03 May 2021)
malbec2Linux (Ubuntu 20.04.2 LTS) / x86_64  OK    OK    OK  UNNEEDED, same version exists in internal repository
riesling1Windows Server 2019 Standard / x64  OK    OK    OK  

Summary

Package: mtbls2
Version: 1.21.2
Command: /home/biocbuild/bbs-3.13-bioc/R/bin/R CMD INSTALL mtbls2
StartedAt: 2021-05-11 11:05:30 -0400 (Tue, 11 May 2021)
EndedAt: 2021-05-11 11:06:03 -0400 (Tue, 11 May 2021)
EllapsedTime: 33.2 seconds
RetCode: 0
Status:   OK  

Command output

##############################################################################
##############################################################################
###
### Running command:
###
###   /home/biocbuild/bbs-3.13-bioc/R/bin/R CMD INSTALL mtbls2
###
##############################################################################
##############################################################################


* installing to library ‘/home/biocbuild/bbs-3.13-bioc/R/library’
* installing *source* package ‘mtbls2’ ...
** using staged installation
** R
** data
** inst
** byte-compile and prepare package for lazy loading
** help
*** installing help indices
** building package indices
** installing vignettes
** testing if installed package can be loaded from temporary location
** testing if installed package can be loaded from final location
** testing if installed package keeps a record of temporary installation path
* DONE (mtbls2)