Name | Last modified | Size | Description | |
---|---|---|---|---|
Parent Directory | - | |||
install-summary.dcf | 26-Jul-2024 03:51 | 284 | ||
buildsrc-summary.dcf | 26-Jul-2024 03:51 | 454 | ||
checksrc-summary.dcf | 26-Jul-2024 03:51 | 465 | ||
buildsrc-out.txt | 26-Jul-2024 03:51 | 849 | ||
install-out.txt | 26-Jul-2024 03:51 | 909 | ||
checksrc-out.txt | 26-Jul-2024 03:51 | 2.6K | ||