Back to Build/check report for BioC 3.19 experimental data
ABCDEFGHIJKL[M]NOPQRSTUVWXYZ

This page was generated on 2024-03-26 14:51:27 -0400 (Tue, 26 Mar 2024).

HostnameOSArch (*)R versionInstalled pkgs
nebbiolo1Linux (Ubuntu 22.04.3 LTS)x86_64R Under development (unstable) (2024-03-18 r86148) -- "Unsuffered Consequences" 4698
Click on any hostname to see more info about the system (e.g. compilers)      (*) as reported by 'uname -p', except on Windows and Mac OS X

Package 247/425HostnameOS / ArchINSTALLBUILDCHECK
mouse4302barcodevecs 1.41.0  (landing page)
Matthew N. McCall
Snapshot Date: 2024-03-26 07:30:03 -0400 (Tue, 26 Mar 2024)
git_url: https://git.bioconductor.org/packages/mouse4302barcodevecs
git_branch: devel
git_last_commit: 4290320
git_last_commit_date: 2023-10-24 08:56:05 -0400 (Tue, 24 Oct 2023)
nebbiolo1Linux (Ubuntu 22.04.3 LTS) / x86_64  OK    OK    OK  UNNEEDED, same version is already published

BUILD results for mouse4302barcodevecs on nebbiolo1


To the developers/maintainers of the mouse4302barcodevecs package:
- Use the following Renviron settings to reproduce errors and warnings.
- If 'R CMD check' started to fail recently on the Linux builder(s) over a missing dependency, add the missing dependency to 'Suggests:' in your DESCRIPTION file. See Renviron.bioc for more information.

raw results


Summary

Package: mouse4302barcodevecs
Version: 1.41.0
Command: /home/biocbuild/bbs-3.19-bioc/R/bin/R CMD build --keep-empty-dirs --no-resave-data mouse4302barcodevecs
StartedAt: 2024-03-26 10:39:48 -0400 (Tue, 26 Mar 2024)
EndedAt: 2024-03-26 10:39:49 -0400 (Tue, 26 Mar 2024)
EllapsedTime: 1.0 seconds
RetCode: 0
Status:   OK  
PackageFile: mouse4302barcodevecs_1.41.0.tar.gz
PackageFileSize: 1021 KiB

Command output

##############################################################################
##############################################################################
###
### Running command:
###
###   /home/biocbuild/bbs-3.19-bioc/R/bin/R CMD build --keep-empty-dirs --no-resave-data mouse4302barcodevecs
###
##############################################################################
##############################################################################


* checking for file ‘mouse4302barcodevecs/DESCRIPTION’ ... OK
* preparing ‘mouse4302barcodevecs’:
* checking DESCRIPTION meta-information ... OK
* checking for LF line-endings in source and make files and shell scripts
* checking for empty or unneeded directories
* looking to see if a ‘data/datalist’ file should be added
* building ‘mouse4302barcodevecs_1.41.0.tar.gz’