Index of /checkResults/devel/data-experiment-LATEST/mosaicsExample/raw-results

[ICO]NameLast modifiedSizeDescription

[DIR]Parent Directory  -  
[   ]info.dcf24-May-2024 03:51 282  
[DIR]nebbiolo2/24-May-2024 03:51 -