Name | Last modified | Size | Description | |
---|---|---|---|---|
Parent Directory | - | |||
buildsrc-out.txt | 26-Jul-2024 03:51 | 909 | ||
buildsrc-summary.dcf | 26-Jul-2024 03:51 | 447 | ||
checksrc-out.txt | 26-Jul-2024 03:51 | 3.5K | ||
checksrc-summary.dcf | 26-Jul-2024 03:51 | 460 | ||
install-out.txt | 26-Jul-2024 03:51 | 924 | ||
install-summary.dcf | 26-Jul-2024 03:51 | 278 | ||