Index of /checkResults/devel/data-experiment-LATEST/miRNATarget/raw-results/nebbiolo2

[ICO]NameLast modifiedSizeDescription

[DIR]Parent Directory  -  
[   ]install-summary.dcf17-Jul-2024 03:51 266  
[TXT]install-out.txt17-Jul-2024 03:51 906  
[   ]checksrc-summary.dcf17-Jul-2024 03:51 429  
[TXT]checksrc-out.txt17-Jul-2024 03:51 3.3K 
[   ]buildsrc-summary.dcf17-Jul-2024 03:51 429  
[TXT]buildsrc-out.txt17-Jul-2024 03:51 885