Index of /checkResults/devel/data-experiment-LATEST/mammaPrintData/raw-results

[ICO]NameLast modifiedSizeDescription

[DIR]Parent Directory  -  
[   ]info.dcf29-Sep-2023 23:08 278  
[DIR]nebbiolo2/29-Sep-2023 23:08 -