Index of /checkResults/devel/data-experiment-LATEST/kidpack/raw-results
Name
Last modified
Size
Description
Parent Directory
-
info.dcf
31-May-2024 03:51
261
nebbiolo2/
31-May-2024 03:51
-