Index of /checkResults/devel/data-experiment-LATEST/homosapienDEE2CellScore/raw-results
Name
Last modified
Size
Description
Parent Directory
-
info.dcf
26-Jul-2024 03:51
297
nebbiolo2/
26-Jul-2024 03:51
-