Name | Last modified | Size | Description | |
---|---|---|---|---|
Parent Directory | - | |||
checksrc-out.txt | 26-Jul-2024 03:51 | 2.6K | ||
install-out.txt | 26-Jul-2024 03:51 | 915 | ||
buildsrc-out.txt | 26-Jul-2024 03:51 | 857 | ||
checksrc-summary.dcf | 26-Jul-2024 03:51 | 473 | ||
buildsrc-summary.dcf | 26-Jul-2024 03:51 | 461 | ||
install-summary.dcf | 26-Jul-2024 03:51 | 288 | ||