Index of /checkResults/devel/data-experiment-LATEST/hgu133plus2CellScore/raw-results/nebbiolo2

[ICO]NameLast modifiedSizeDescription

[DIR]Parent Directory  -  
[TXT]buildsrc-out.txt14-Jun-2024 03:51 858  
[   ]buildsrc-summary.dcf14-Jun-2024 03:51 456  
[TXT]checksrc-out.txt14-Jun-2024 03:51 3.5K 
[   ]checksrc-summary.dcf14-Jun-2024 03:51 471  
[TXT]install-out.txt14-Jun-2024 03:51 1.0K 
[   ]install-summary.dcf14-Jun-2024 03:51 285