Index of /checkResults/devel/data-experiment-LATEST/hgu133plus2CellScore/raw-results

[ICO]NameLast modifiedSizeDescription

[DIR]Parent Directory  -  
[DIR]nebbiolo2/19-Jul-2024 03:51 -  
[   ]info.dcf19-Jul-2024 03:51 293