Index of /checkResults/devel/data-experiment-LATEST/golubEsets/raw-results
Name
Last modified
Size
Description
Parent Directory
-
info.dcf
26-Jul-2024 03:51
275
nebbiolo2/
26-Jul-2024 03:51
-