Name | Last modified | Size | Description | |
---|---|---|---|---|
Parent Directory | - | |||
checksrc-summary.dcf | 26-Jul-2024 03:51 | 428 | ||
checksrc-out.txt | 26-Jul-2024 03:51 | 5.4K | ||
install-summary.dcf | 26-Jul-2024 03:51 | 262 | ||
install-out.txt | 26-Jul-2024 03:51 | 1.2K | ||
buildsrc-summary.dcf | 26-Jul-2024 03:51 | 424 | ||
buildsrc-out.txt | 26-Jul-2024 03:51 | 877 | ||