Index of /checkResults/devel/data-experiment-LATEST/fourDNData/raw-results
Name
Last modified
Size
Description
Parent Directory
-
nebbiolo2/
28-Jun-2024 03:51
-
info.dcf
28-Jun-2024 03:51
276